BEGIN:VCALENDAR
VERSION:2.0
PRODID:-//WELEEC - ECPv6.15.18//NONSGML v1.0//EN
CALSCALE:GREGORIAN
METHOD:PUBLISH
X-ORIGINAL-URL:https://weleec.edu.do
X-WR-CALDESC:Eventos para WELEEC
REFRESH-INTERVAL;VALUE=DURATION:PT1H
X-Robots-Tag:noindex
X-PUBLISHED-TTL:PT1H
BEGIN:VTIMEZONE
TZID:UTC
BEGIN:STANDARD
TZOFFSETFROM:+0000
TZOFFSETTO:+0000
TZNAME:UTC
DTSTART:20250101T000000
END:STANDARD
END:VTIMEZONE
BEGIN:VEVENT
DTSTART;VALUE=DATE:20260221
DTEND;VALUE=DATE:20260222
DTSTAMP:20260421T105412
CREATED:20260107T095439Z
LAST-MODIFIED:20260107T095439Z
UID:6397-1771632000-1771718399@weleec.edu.do
SUMMARY:Día Internacional de la Lengua Materna
DESCRIPTION:
URL:https://weleec.edu.do/index.php/event/dia-internacional-de-la-lengua-materna/
LOCATION:WELEEC\, Calle Wellington Lewis\, Las Cuarenta\, Naguga\, Maria Trinidad Sanchez\, 33000\, Dominican Republic
CATEGORIES:Efeméride
ATTACH;FMTTYPE=image/webp:https://weleec.edu.do/wp-content/uploads/2026/01/lenguaje-lengua.webp
ORGANIZER;CN="WELEEC":MAILTO:weleecrd@gmail.com
END:VEVENT
BEGIN:VEVENT
DTSTART;VALUE=DATE:20260218
DTEND;VALUE=DATE:20260219
DTSTAMP:20260421T105412
CREATED:20260107T094724Z
LAST-MODIFIED:20260107T094724Z
UID:6388-1771372800-1771459199@weleec.edu.do
SUMMARY:Día Nacional del Estudiante
DESCRIPTION:
URL:https://weleec.edu.do/index.php/event/dia-nacional-del-estudiante/
LOCATION:WELEEC\, Calle Wellington Lewis\, Las Cuarenta\, Naguga\, Maria Trinidad Sanchez\, 33000\, Dominican Republic
ATTACH;FMTTYPE=image/jpeg:https://weleec.edu.do/wp-content/uploads/2026/01/educando-dia-del-estudiante.jpg
ORGANIZER;CN="WELEEC":MAILTO:weleecrd@gmail.com
END:VEVENT
BEGIN:VEVENT
DTSTART;VALUE=DATE:20260126
DTEND;VALUE=DATE:20260127
DTSTAMP:20260421T105412
CREATED:20260107T094547Z
LAST-MODIFIED:20260107T095249Z
UID:6385-1769385600-1769471999@weleec.edu.do
SUMMARY:Natalicio de Juan Pablo Duarte
DESCRIPTION:
URL:https://weleec.edu.do/index.php/event/natalicio-de-juan-pablo-duarte/
LOCATION:WELEEC\, Calle Wellington Lewis\, Las Cuarenta\, Naguga\, Maria Trinidad Sanchez\, 33000\, Dominican Republic
CATEGORIES:Evento Patrio
ATTACH;FMTTYPE=image/png:https://weleec.edu.do/wp-content/uploads/2026/01/BANER-EFEMERIDES-26ENE-2021.png
ORGANIZER;CN="WELEEC":MAILTO:weleecrd@gmail.com
END:VEVENT
BEGIN:VEVENT
DTSTART;VALUE=DATE:20260124
DTEND;VALUE=DATE:20260125
DTSTAMP:20260421T105412
CREATED:20260107T094158Z
LAST-MODIFIED:20260107T094158Z
UID:6380-1769212800-1769299199@weleec.edu.do
SUMMARY:Día Internacional de la Educación
DESCRIPTION:
URL:https://weleec.edu.do/index.php/event/dia-internacional-de-la-educacion/
LOCATION:WELEEC\, Calle Wellington Lewis\, Las Cuarenta\, Naguga\, Maria Trinidad Sanchez\, 33000\, Dominican Republic
ATTACH;FMTTYPE=image/jpeg:https://weleec.edu.do/wp-content/uploads/2026/01/Dia-Internacional-de-la-Educacion.jpg
ORGANIZER;CN="WELEEC":MAILTO:weleecrd@gmail.com
END:VEVENT
END:VCALENDAR